BEGIN:VCALENDAR
VERSION:2.0
PRODID:-//Student Orchestras of Greater Olympia - ECPv6.15.20//NONSGML v1.0//EN
CALSCALE:GREGORIAN
METHOD:PUBLISH
X-ORIGINAL-URL:https://studentorchestras.org
X-WR-CALDESC:Events for Student Orchestras of Greater Olympia
REFRESH-INTERVAL;VALUE=DURATION:PT1H
X-Robots-Tag:noindex
X-PUBLISHED-TTL:PT1H
BEGIN:VTIMEZONE
TZID:America/Los_Angeles
BEGIN:DAYLIGHT
TZOFFSETFROM:-0800
TZOFFSETTO:-0700
TZNAME:PDT
DTSTART:20240310T100000
END:DAYLIGHT
BEGIN:STANDARD
TZOFFSETFROM:-0700
TZOFFSETTO:-0800
TZNAME:PST
DTSTART:20241103T090000
END:STANDARD
BEGIN:DAYLIGHT
TZOFFSETFROM:-0800
TZOFFSETTO:-0700
TZNAME:PDT
DTSTART:20250309T100000
END:DAYLIGHT
BEGIN:STANDARD
TZOFFSETFROM:-0700
TZOFFSETTO:-0800
TZNAME:PST
DTSTART:20251102T090000
END:STANDARD
BEGIN:DAYLIGHT
TZOFFSETFROM:-0800
TZOFFSETTO:-0700
TZNAME:PDT
DTSTART:20260308T100000
END:DAYLIGHT
BEGIN:STANDARD
TZOFFSETFROM:-0700
TZOFFSETTO:-0800
TZNAME:PST
DTSTART:20261101T090000
END:STANDARD
END:VTIMEZONE
BEGIN:VEVENT
DTSTART;TZID=America/Los_Angeles:20251222T190000
DTEND;TZID=America/Los_Angeles:20251222T190000
DTSTAMP:20260423T111510
CREATED:20240229T233550Z
LAST-MODIFIED:20251216T212825Z
UID:25518-1766430000-1766430000@studentorchestras.org
SUMMARY:Messiah Sing-Along 2025
DESCRIPTION:Come to sing or come to listen to the 25th annual Community Messiah Sing-Along\nFREE and open to the publicDonations are gladly acceptedSponsored by: R.L. Ray Violin Shop\, Peak Credit Union\, Sweet Francis sewing Co.\nLet the glory of Handel’s Messiah transport you from the cares of this world. Handel famously secluded himself for 23 days to create this inspirational work. Become part of a tradition stretching back hundreds of years as audiences of all ages come to listen or come to sing. \nFeaturing ~ Nickolas Carlson\, ConductorVocal Soloists Include:Danielle Tobin\, sopranoBrianna Kramer\, mezzo sopranoRyne Olson\, tenorJohn Guarente\, baritone \nSchirmer scores are available for rent or purchase ($10). \nConcert Program to include the following:(Check back for any program changes)\n\nOverture\n Comfort ye my people (No. 2\, p. 7)*\nEvery valley (No. 3\, p. 10)\nChorus – And the glory of the Lord (No. 4\, p. 16)\nBehold a virgin (No. 8\, p. 47)\nAir & Chorus – O thou that tellest (No. 9\, p. 47) \nChorus – For unto us a child is born (No. 12\, p. 66)\nPastoral Symphony\nThere were shepherds (No. 14\, p. 79)\nAnd the angel said unto them (No. 15\, p. 80)\nAnd suddenly there was (No. 16\, p. 81)\nChorus – Glory to God in the highest (No. 17\, p. 82)\nRejoice greatly (No. 18\, p. 87 )\nChorus – His yoke is easy (No. 21\, p. 98)\nChorus – Hallelujah (No. 44\, p. 193)\nRecit. – Behold\, I tell you a mystery (No. 47\, p. 214)\nAria – The trumpet shall sound (No.48\, p. 214)\nChorus – Worthy is the Lamb (No. 53\, p. 237)\n\n* Schirmer Score \nThank you to the Student Orchestras of Greater Olympia and the Washington Center for hosting.Sponsors include – Peak Credit Union\, R.L. Ray Violin Shop\, Sweet Francis
URL:https://studentorchestras.org/event/messiah-sing-along/
LOCATION:Washington Center\, 512 Washington St. SE\, Olympia\, WA\, 98501\, United States
CATEGORIES:Holiday Events,Student Performances
ATTACH;FMTTYPE=image/png:https://studentorchestras.org/wp-content/uploads/2024/02/Messiah-SingAlong.png
END:VEVENT
END:VCALENDAR