BEGIN:VCALENDAR
VERSION:2.0
PRODID:-//Student Orchestras of Greater Olympia - ECPv6.15.20//NONSGML v1.0//EN
CALSCALE:GREGORIAN
METHOD:PUBLISH
X-ORIGINAL-URL:https://studentorchestras.org
X-WR-CALDESC:Events for Student Orchestras of Greater Olympia
REFRESH-INTERVAL;VALUE=DURATION:PT1H
X-Robots-Tag:noindex
X-PUBLISHED-TTL:PT1H
BEGIN:VTIMEZONE
TZID:America/Los_Angeles
BEGIN:DAYLIGHT
TZOFFSETFROM:-0800
TZOFFSETTO:-0700
TZNAME:PDT
DTSTART:20240310T100000
END:DAYLIGHT
BEGIN:STANDARD
TZOFFSETFROM:-0700
TZOFFSETTO:-0800
TZNAME:PST
DTSTART:20241103T090000
END:STANDARD
BEGIN:DAYLIGHT
TZOFFSETFROM:-0800
TZOFFSETTO:-0700
TZNAME:PDT
DTSTART:20250309T100000
END:DAYLIGHT
BEGIN:STANDARD
TZOFFSETFROM:-0700
TZOFFSETTO:-0800
TZNAME:PST
DTSTART:20251102T090000
END:STANDARD
BEGIN:DAYLIGHT
TZOFFSETFROM:-0800
TZOFFSETTO:-0700
TZNAME:PDT
DTSTART:20260308T100000
END:DAYLIGHT
BEGIN:STANDARD
TZOFFSETFROM:-0700
TZOFFSETTO:-0800
TZNAME:PST
DTSTART:20261101T090000
END:STANDARD
END:VTIMEZONE
BEGIN:VEVENT
DTSTART;TZID=America/Los_Angeles:20251213T140000
DTEND;TZID=America/Los_Angeles:20251213T140000
DTSTAMP:20260423T111510
CREATED:20240229T233453Z
LAST-MODIFIED:20251110T192522Z
UID:25516-1765634400-1765634400@studentorchestras.org
SUMMARY:Brass Choir Holiday Show 2025
DESCRIPTION:BUY TICKETS  Join us for the SOGO Ho Ho Holiday Brass Choir Show under the direction of Greg Allison. The brass ensemble will perform traditional and not-so-traditional holiday favorites. A delightful afternoon out for family\, friends\, and co-workers. Sponsored by: Tumwater Eye Center\, JT Painting Co.\, Guild Mortgage & Act1 Theatre.
URL:https://studentorchestras.org/event/brass-choir-holiday-show-2024/
LOCATION:Westminister Presbyterian Church\, 1925 Boulevard Rd\, Olympia\, WA\, 98502\, United States
CATEGORIES:Holiday Events
ATTACH;FMTTYPE=image/png:https://studentorchestras.org/wp-content/uploads/2024/02/SOGO-HO-HO.png
END:VEVENT
END:VCALENDAR